BEGIN:VCALENDAR
VERSION:2.0
PRODID:-//Isanti County Radio Club - ECPv6.15.17.1//NONSGML v1.0//EN
CALSCALE:GREGORIAN
METHOD:PUBLISH
X-ORIGINAL-URL:https://isantiradio.org
X-WR-CALDESC:Events for Isanti County Radio Club
REFRESH-INTERVAL;VALUE=DURATION:PT1H
X-Robots-Tag:noindex
X-PUBLISHED-TTL:PT1H
BEGIN:VTIMEZONE
TZID:UTC
BEGIN:STANDARD
TZOFFSETFROM:+0000
TZOFFSETTO:+0000
TZNAME:UTC
DTSTART:20230101T000000
END:STANDARD
END:VTIMEZONE
BEGIN:VEVENT
DTSTART;TZID=UTC:20240522T202500
DTEND;TZID=UTC:20240522T211500
DTSTAMP:20260421T121450
CREATED:20211020T213037Z
LAST-MODIFIED:20211020T213037Z
UID:642-1716409500-1716412500@isantiradio.org
SUMMARY:Weekly 2 Meter net every Wednesday starting at 8:25 pm
DESCRIPTION:Weekly 2 Meter net every Wednesday at 8:25 pm on 146.420 Mhz Simplex and on the Isanti repeater (146.64 – pl 146.2) starting at about 8:30 pm.
URL:https://isantiradio.org/event/weekly-2-meter-net-every-wednesday-starting-at-825-pm-2024-05-22/
LOCATION:MN
END:VEVENT
BEGIN:VEVENT
DTSTART;TZID=UTC:20240515T202500
DTEND;TZID=UTC:20240515T211500
DTSTAMP:20260421T121450
CREATED:20211020T213037Z
LAST-MODIFIED:20211020T213037Z
UID:641-1715804700-1715807700@isantiradio.org
SUMMARY:Weekly 2 Meter net every Wednesday starting at 8:25 pm
DESCRIPTION:Weekly 2 Meter net every Wednesday at 8:25 pm on 146.420 Mhz Simplex and on the Isanti repeater (146.64 – pl 146.2) starting at about 8:30 pm.
URL:https://isantiradio.org/event/weekly-2-meter-net-every-wednesday-starting-at-825-pm-2024-05-15/
LOCATION:MN
END:VEVENT
BEGIN:VEVENT
DTSTART;TZID=UTC:20240508T202500
DTEND;TZID=UTC:20240508T211500
DTSTAMP:20260421T121450
CREATED:20211020T213037Z
LAST-MODIFIED:20211020T213037Z
UID:637-1715199900-1715202900@isantiradio.org
SUMMARY:Weekly 2 Meter net every Wednesday starting at 8:25 pm
DESCRIPTION:Weekly 2 Meter net every Wednesday at 8:25 pm on 146.420 Mhz Simplex and on the Isanti repeater (146.64 – pl 146.2) starting at about 8:30 pm.
URL:https://isantiradio.org/event/weekly-2-meter-net-every-wednesday-starting-at-825-pm-2024-05-08/
LOCATION:MN
END:VEVENT
BEGIN:VEVENT
DTSTART;TZID=UTC:20240501T202500
DTEND;TZID=UTC:20240501T211500
DTSTAMP:20260421T121450
CREATED:20211020T213037Z
LAST-MODIFIED:20211020T213037Z
UID:635-1714595100-1714598100@isantiradio.org
SUMMARY:Weekly 2 Meter net every Wednesday starting at 8:25 pm
DESCRIPTION:Weekly 2 Meter net every Wednesday at 8:25 pm on 146.420 Mhz Simplex and on the Isanti repeater (146.64 – pl 146.2) starting at about 8:30 pm.
URL:https://isantiradio.org/event/weekly-2-meter-net-every-wednesday-starting-at-825-pm-2024-05-01/
LOCATION:MN
END:VEVENT
BEGIN:VEVENT
DTSTART;TZID=UTC:20240501T170000
DTEND;TZID=UTC:20240501T200000
DTSTAMP:20260421T121450
CREATED:20211020T213923Z
LAST-MODIFIED:20211020T213923Z
UID:634-1714582800-1714593600@isantiradio.org
SUMMARY:First Wednesday gathering at the Whistle Top Bar and Grill in the Junction Bowl in Isanti.
DESCRIPTION:The monthly gathering will be at the Whistle Stop Bar and Grill inside Junction Bowl in Isanti. We meet the first Wednesday of each month.\n123 Cajima St NE\,\nIsanti\, MN 55040\nWe meet at about 5:30pm and order food/beverages.  We finish up around 8:00pm to be home in time for the net to start.
URL:https://isantiradio.org/event/first-wednesday-gathering-at-the-whistle-top-bar-and-grill-in-the-junction-bowl-in-isanti-2024-05-01/
LOCATION:Whistle Top Bar and Grill\, 123 Cajima St NE\, Isanti\, MN\, 55040\, United States
END:VEVENT
BEGIN:VEVENT
DTSTART;TZID=UTC:20240501T123000
DTEND;TZID=UTC:20240501T133000
DTSTAMP:20260421T121450
CREATED:20211020T215624Z
LAST-MODIFIED:20211020T215624Z
UID:633-1714566600-1714570200@isantiradio.org
SUMMARY:Weekly Hospital Net
DESCRIPTION:First Wednesday of the month from 12:30PM-1:30PM\nIsanti Crossband Repeater Simplex (444.325+pl 141.3)
URL:https://isantiradio.org/event/weekly-hospital-net-2024-05-01/
LOCATION:Isanti County Government Center\, 555 18th Ave SW\, Cambridge\, MN\, 55008\, United States
END:VEVENT
BEGIN:VEVENT
DTSTART;TZID=UTC:20240424T202500
DTEND;TZID=UTC:20240424T211500
DTSTAMP:20260421T121450
CREATED:20211020T213037Z
LAST-MODIFIED:20211020T213037Z
UID:632-1713990300-1713993300@isantiradio.org
SUMMARY:Weekly 2 Meter net every Wednesday starting at 8:25 pm
DESCRIPTION:Weekly 2 Meter net every Wednesday at 8:25 pm on 146.420 Mhz Simplex and on the Isanti repeater (146.64 – pl 146.2) starting at about 8:30 pm.
URL:https://isantiradio.org/event/weekly-2-meter-net-every-wednesday-starting-at-825-pm-2024-04-24/
LOCATION:MN
END:VEVENT
BEGIN:VEVENT
DTSTART;TZID=UTC:20240417T202500
DTEND;TZID=UTC:20240417T211500
DTSTAMP:20260421T121450
CREATED:20211020T213037Z
LAST-MODIFIED:20211020T213037Z
UID:630-1713385500-1713388500@isantiradio.org
SUMMARY:Weekly 2 Meter net every Wednesday starting at 8:25 pm
DESCRIPTION:Weekly 2 Meter net every Wednesday at 8:25 pm on 146.420 Mhz Simplex and on the Isanti repeater (146.64 – pl 146.2) starting at about 8:30 pm.
URL:https://isantiradio.org/event/weekly-2-meter-net-every-wednesday-starting-at-825-pm-2024-04-17/
LOCATION:MN
END:VEVENT
BEGIN:VEVENT
DTSTART;TZID=UTC:20240410T202500
DTEND;TZID=UTC:20240410T211500
DTSTAMP:20260421T121450
CREATED:20211020T213037Z
LAST-MODIFIED:20211020T213037Z
UID:628-1712780700-1712783700@isantiradio.org
SUMMARY:Weekly 2 Meter net every Wednesday starting at 8:25 pm
DESCRIPTION:Weekly 2 Meter net every Wednesday at 8:25 pm on 146.420 Mhz Simplex and on the Isanti repeater (146.64 – pl 146.2) starting at about 8:30 pm.
URL:https://isantiradio.org/event/weekly-2-meter-net-every-wednesday-starting-at-825-pm-2024-04-10/
LOCATION:MN
END:VEVENT
BEGIN:VEVENT
DTSTART;TZID=UTC:20240403T202500
DTEND;TZID=UTC:20240403T211500
DTSTAMP:20260421T121450
CREATED:20211020T213037Z
LAST-MODIFIED:20211020T213037Z
UID:625-1712175900-1712178900@isantiradio.org
SUMMARY:Weekly 2 Meter net every Wednesday starting at 8:25 pm
DESCRIPTION:Weekly 2 Meter net every Wednesday at 8:25 pm on 146.420 Mhz Simplex and on the Isanti repeater (146.64 – pl 146.2) starting at about 8:30 pm.
URL:https://isantiradio.org/event/weekly-2-meter-net-every-wednesday-starting-at-825-pm-2024-04-03/
LOCATION:MN
END:VEVENT
BEGIN:VEVENT
DTSTART;TZID=UTC:20240403T170000
DTEND;TZID=UTC:20240403T200000
DTSTAMP:20260421T121450
CREATED:20211020T213923Z
LAST-MODIFIED:20211020T213923Z
UID:624-1712163600-1712174400@isantiradio.org
SUMMARY:First Wednesday gathering at the Whistle Top Bar and Grill in the Junction Bowl in Isanti.
DESCRIPTION:The monthly gathering will be at the Whistle Stop Bar and Grill inside Junction Bowl in Isanti. We meet the first Wednesday of each month.\n123 Cajima St NE\,\nIsanti\, MN 55040\nWe meet at about 5:30pm and order food/beverages.  We finish up around 8:00pm to be home in time for the net to start.
URL:https://isantiradio.org/event/first-wednesday-gathering-at-the-whistle-top-bar-and-grill-in-the-junction-bowl-in-isanti-2024-04-03/
LOCATION:Whistle Top Bar and Grill\, 123 Cajima St NE\, Isanti\, MN\, 55040\, United States
END:VEVENT
BEGIN:VEVENT
DTSTART;TZID=UTC:20240403T123000
DTEND;TZID=UTC:20240403T133000
DTSTAMP:20260421T121450
CREATED:20211020T215624Z
LAST-MODIFIED:20211020T215624Z
UID:623-1712147400-1712151000@isantiradio.org
SUMMARY:Weekly Hospital Net
DESCRIPTION:First Wednesday of the month from 12:30PM-1:30PM\nIsanti Crossband Repeater Simplex (444.325+pl 141.3)
URL:https://isantiradio.org/event/weekly-hospital-net-2024-04-03/
LOCATION:Isanti County Government Center\, 555 18th Ave SW\, Cambridge\, MN\, 55008\, United States
END:VEVENT
BEGIN:VEVENT
DTSTART;TZID=UTC:20240327T202500
DTEND;TZID=UTC:20240327T211500
DTSTAMP:20260421T121450
CREATED:20211020T213037Z
LAST-MODIFIED:20211020T213037Z
UID:619-1711571100-1711574100@isantiradio.org
SUMMARY:Weekly 2 Meter net every Wednesday starting at 8:25 pm
DESCRIPTION:Weekly 2 Meter net every Wednesday at 8:25 pm on 146.420 Mhz Simplex and on the Isanti repeater (146.64 – pl 146.2) starting at about 8:30 pm.
URL:https://isantiradio.org/event/weekly-2-meter-net-every-wednesday-starting-at-825-pm-2024-03-27/
LOCATION:MN
END:VEVENT
BEGIN:VEVENT
DTSTART;TZID=UTC:20240320T202500
DTEND;TZID=UTC:20240320T211500
DTSTAMP:20260421T121450
CREATED:20211020T213037Z
LAST-MODIFIED:20211020T213037Z
UID:614-1710966300-1710969300@isantiradio.org
SUMMARY:Weekly 2 Meter net every Wednesday starting at 8:25 pm
DESCRIPTION:Weekly 2 Meter net every Wednesday at 8:25 pm on 146.420 Mhz Simplex and on the Isanti repeater (146.64 – pl 146.2) starting at about 8:30 pm.
URL:https://isantiradio.org/event/weekly-2-meter-net-every-wednesday-starting-at-825-pm-2024-03-20/
LOCATION:MN
END:VEVENT
BEGIN:VEVENT
DTSTART;TZID=UTC:20240313T202500
DTEND;TZID=UTC:20240313T211500
DTSTAMP:20260421T121450
CREATED:20211020T213037Z
LAST-MODIFIED:20211020T213037Z
UID:606-1710361500-1710364500@isantiradio.org
SUMMARY:Weekly 2 Meter net every Wednesday starting at 8:25 pm
DESCRIPTION:Weekly 2 Meter net every Wednesday at 8:25 pm on 146.420 Mhz Simplex and on the Isanti repeater (146.64 – pl 146.2) starting at about 8:30 pm.
URL:https://isantiradio.org/event/weekly-2-meter-net-every-wednesday-starting-at-825-pm-2024-03-13/
LOCATION:MN
END:VEVENT
BEGIN:VEVENT
DTSTART;TZID=UTC:20240306T202500
DTEND;TZID=UTC:20240306T211500
DTSTAMP:20260421T121450
CREATED:20211020T213037Z
LAST-MODIFIED:20211020T213037Z
UID:604-1709756700-1709759700@isantiradio.org
SUMMARY:Weekly 2 Meter net every Wednesday starting at 8:25 pm
DESCRIPTION:Weekly 2 Meter net every Wednesday at 8:25 pm on 146.420 Mhz Simplex and on the Isanti repeater (146.64 – pl 146.2) starting at about 8:30 pm.
URL:https://isantiradio.org/event/weekly-2-meter-net-every-wednesday-starting-at-825-pm-2024-03-06/
LOCATION:MN
END:VEVENT
BEGIN:VEVENT
DTSTART;TZID=UTC:20240306T170000
DTEND;TZID=UTC:20240306T200000
DTSTAMP:20260421T121450
CREATED:20211020T213923Z
LAST-MODIFIED:20211020T213923Z
UID:603-1709744400-1709755200@isantiradio.org
SUMMARY:First Wednesday gathering at the Whistle Top Bar and Grill in the Junction Bowl in Isanti.
DESCRIPTION:The monthly gathering will be at the Whistle Stop Bar and Grill inside Junction Bowl in Isanti. We meet the first Wednesday of each month.\n123 Cajima St NE\,\nIsanti\, MN 55040\nWe meet at about 5:30pm and order food/beverages.  We finish up around 8:00pm to be home in time for the net to start.
URL:https://isantiradio.org/event/first-wednesday-gathering-at-the-whistle-top-bar-and-grill-in-the-junction-bowl-in-isanti-2024-03-06/
LOCATION:Whistle Top Bar and Grill\, 123 Cajima St NE\, Isanti\, MN\, 55040\, United States
END:VEVENT
BEGIN:VEVENT
DTSTART;TZID=UTC:20240306T123000
DTEND;TZID=UTC:20240306T133000
DTSTAMP:20260421T121450
CREATED:20211020T215624Z
LAST-MODIFIED:20211020T215624Z
UID:602-1709728200-1709731800@isantiradio.org
SUMMARY:Weekly Hospital Net
DESCRIPTION:First Wednesday of the month from 12:30PM-1:30PM\nIsanti Crossband Repeater Simplex (444.325+pl 141.3)
URL:https://isantiradio.org/event/weekly-hospital-net-2024-03-06/
LOCATION:Isanti County Government Center\, 555 18th Ave SW\, Cambridge\, MN\, 55008\, United States
END:VEVENT
BEGIN:VEVENT
DTSTART;TZID=UTC:20240228T202500
DTEND;TZID=UTC:20240228T211500
DTSTAMP:20260421T121450
CREATED:20211020T213037Z
LAST-MODIFIED:20211020T213037Z
UID:596-1709151900-1709154900@isantiradio.org
SUMMARY:Weekly 2 Meter net every Wednesday starting at 8:25 pm
DESCRIPTION:Weekly 2 Meter net every Wednesday at 8:25 pm on 146.420 Mhz Simplex and on the Isanti repeater (146.64 – pl 146.2) starting at about 8:30 pm.
URL:https://isantiradio.org/event/weekly-2-meter-net-every-wednesday-starting-at-825-pm-2024-02-28/
LOCATION:MN
END:VEVENT
BEGIN:VEVENT
DTSTART;TZID=UTC:20240221T202500
DTEND;TZID=UTC:20240221T211500
DTSTAMP:20260421T121450
CREATED:20211020T213037Z
LAST-MODIFIED:20211020T213037Z
UID:584-1708547100-1708550100@isantiradio.org
SUMMARY:Weekly 2 Meter net every Wednesday starting at 8:25 pm
DESCRIPTION:Weekly 2 Meter net every Wednesday at 8:25 pm on 146.420 Mhz Simplex and on the Isanti repeater (146.64 – pl 146.2) starting at about 8:30 pm.
URL:https://isantiradio.org/event/weekly-2-meter-net-every-wednesday-starting-at-825-pm-2024-02-21/
LOCATION:MN
END:VEVENT
BEGIN:VEVENT
DTSTART;TZID=UTC:20240214T202500
DTEND;TZID=UTC:20240214T211500
DTSTAMP:20260421T121450
CREATED:20211020T213037Z
LAST-MODIFIED:20211020T213037Z
UID:578-1707942300-1707945300@isantiradio.org
SUMMARY:Weekly 2 Meter net every Wednesday starting at 8:25 pm
DESCRIPTION:Weekly 2 Meter net every Wednesday at 8:25 pm on 146.420 Mhz Simplex and on the Isanti repeater (146.64 – pl 146.2) starting at about 8:30 pm.
URL:https://isantiradio.org/event/weekly-2-meter-net-every-wednesday-starting-at-825-pm-2024-02-14/
LOCATION:MN
END:VEVENT
BEGIN:VEVENT
DTSTART;TZID=UTC:20240207T202500
DTEND;TZID=UTC:20240207T211500
DTSTAMP:20260421T121450
CREATED:20211020T213037Z
LAST-MODIFIED:20211020T213037Z
UID:570-1707337500-1707340500@isantiradio.org
SUMMARY:Weekly 2 Meter net every Wednesday starting at 8:25 pm
DESCRIPTION:Weekly 2 Meter net every Wednesday at 8:25 pm on 146.420 Mhz Simplex and on the Isanti repeater (146.64 – pl 146.2) starting at about 8:30 pm.
URL:https://isantiradio.org/event/weekly-2-meter-net-every-wednesday-starting-at-825-pm-2024-02-07/
LOCATION:MN
END:VEVENT
BEGIN:VEVENT
DTSTART;TZID=UTC:20240207T170000
DTEND;TZID=UTC:20240207T200000
DTSTAMP:20260421T121450
CREATED:20211020T213923Z
LAST-MODIFIED:20211020T213923Z
UID:569-1707325200-1707336000@isantiradio.org
SUMMARY:First Wednesday gathering at the Whistle Top Bar and Grill in the Junction Bowl in Isanti.
DESCRIPTION:The monthly gathering will be at the Whistle Stop Bar and Grill inside Junction Bowl in Isanti. We meet the first Wednesday of each month.\n123 Cajima St NE\,\nIsanti\, MN 55040\nWe meet at about 5:30pm and order food/beverages.  We finish up around 8:00pm to be home in time for the net to start.
URL:https://isantiradio.org/event/first-wednesday-gathering-at-the-whistle-top-bar-and-grill-in-the-junction-bowl-in-isanti-2024-02-07/
LOCATION:Whistle Top Bar and Grill\, 123 Cajima St NE\, Isanti\, MN\, 55040\, United States
END:VEVENT
BEGIN:VEVENT
DTSTART;TZID=UTC:20240207T123000
DTEND;TZID=UTC:20240207T133000
DTSTAMP:20260421T121450
CREATED:20211020T215624Z
LAST-MODIFIED:20211020T215624Z
UID:568-1707309000-1707312600@isantiradio.org
SUMMARY:Weekly Hospital Net
DESCRIPTION:First Wednesday of the month from 12:30PM-1:30PM\nIsanti Crossband Repeater Simplex (444.325+pl 141.3)
URL:https://isantiradio.org/event/weekly-hospital-net-2024-02-07/
LOCATION:Isanti County Government Center\, 555 18th Ave SW\, Cambridge\, MN\, 55008\, United States
END:VEVENT
BEGIN:VEVENT
DTSTART;TZID=UTC:20240131T202500
DTEND;TZID=UTC:20240131T211500
DTSTAMP:20260421T121450
CREATED:20211020T213037Z
LAST-MODIFIED:20211020T213037Z
UID:553-1706732700-1706735700@isantiradio.org
SUMMARY:Weekly 2 Meter net every Wednesday starting at 8:25 pm
DESCRIPTION:Weekly 2 Meter net every Wednesday at 8:25 pm on 146.420 Mhz Simplex and on the Isanti repeater (146.64 – pl 146.2) starting at about 8:30 pm.
URL:https://isantiradio.org/event/weekly-2-meter-net-every-wednesday-starting-at-825-pm-2024-01-31/
LOCATION:MN
END:VEVENT
BEGIN:VEVENT
DTSTART;TZID=UTC:20240124T202500
DTEND;TZID=UTC:20240124T211500
DTSTAMP:20260421T121450
CREATED:20211020T213037Z
LAST-MODIFIED:20211020T213037Z
UID:546-1706127900-1706130900@isantiradio.org
SUMMARY:Weekly 2 Meter net every Wednesday starting at 8:25 pm
DESCRIPTION:Weekly 2 Meter net every Wednesday at 8:25 pm on 146.420 Mhz Simplex and on the Isanti repeater (146.64 – pl 146.2) starting at about 8:30 pm.
URL:https://isantiradio.org/event/weekly-2-meter-net-every-wednesday-starting-at-825-pm-2024-01-24/
LOCATION:MN
END:VEVENT
BEGIN:VEVENT
DTSTART;TZID=UTC:20240117T202500
DTEND;TZID=UTC:20240117T211500
DTSTAMP:20260421T121450
CREATED:20211020T213037Z
LAST-MODIFIED:20211020T213037Z
UID:545-1705523100-1705526100@isantiradio.org
SUMMARY:Weekly 2 Meter net every Wednesday starting at 8:25 pm
DESCRIPTION:Weekly 2 Meter net every Wednesday at 8:25 pm on 146.420 Mhz Simplex and on the Isanti repeater (146.64 – pl 146.2) starting at about 8:30 pm.
URL:https://isantiradio.org/event/weekly-2-meter-net-every-wednesday-starting-at-825-pm-2024-01-17/
LOCATION:MN
END:VEVENT
BEGIN:VEVENT
DTSTART;TZID=UTC:20240110T202500
DTEND;TZID=UTC:20240110T211500
DTSTAMP:20260421T121450
CREATED:20211020T213037Z
LAST-MODIFIED:20211020T213037Z
UID:544-1704918300-1704921300@isantiradio.org
SUMMARY:Weekly 2 Meter net every Wednesday starting at 8:25 pm
DESCRIPTION:Weekly 2 Meter net every Wednesday at 8:25 pm on 146.420 Mhz Simplex and on the Isanti repeater (146.64 – pl 146.2) starting at about 8:30 pm.
URL:https://isantiradio.org/event/weekly-2-meter-net-every-wednesday-starting-at-825-pm-2024-01-10/
LOCATION:MN
END:VEVENT
BEGIN:VEVENT
DTSTART;TZID=UTC:20240103T202500
DTEND;TZID=UTC:20240103T211500
DTSTAMP:20260421T121450
CREATED:20211020T213037Z
LAST-MODIFIED:20211020T213037Z
UID:539-1704313500-1704316500@isantiradio.org
SUMMARY:Weekly 2 Meter net every Wednesday starting at 8:25 pm
DESCRIPTION:Weekly 2 Meter net every Wednesday at 8:25 pm on 146.420 Mhz Simplex and on the Isanti repeater (146.64 – pl 146.2) starting at about 8:30 pm.
URL:https://isantiradio.org/event/weekly-2-meter-net-every-wednesday-starting-at-825-pm-2024-01-03/
LOCATION:MN
END:VEVENT
BEGIN:VEVENT
DTSTART;TZID=UTC:20240103T170000
DTEND;TZID=UTC:20240103T200000
DTSTAMP:20260421T121450
CREATED:20211020T213923Z
LAST-MODIFIED:20211020T213923Z
UID:538-1704301200-1704312000@isantiradio.org
SUMMARY:First Wednesday gathering at the Whistle Top Bar and Grill in the Junction Bowl in Isanti.
DESCRIPTION:The monthly gathering will be at the Whistle Stop Bar and Grill inside Junction Bowl in Isanti. We meet the first Wednesday of each month.\n123 Cajima St NE\,\nIsanti\, MN 55040\nWe meet at about 5:30pm and order food/beverages.  We finish up around 8:00pm to be home in time for the net to start.
URL:https://isantiradio.org/event/first-wednesday-gathering-at-the-whistle-top-bar-and-grill-in-the-junction-bowl-in-isanti-2024-01-03/
LOCATION:Whistle Top Bar and Grill\, 123 Cajima St NE\, Isanti\, MN\, 55040\, United States
END:VEVENT
END:VCALENDAR