BEGIN:VCALENDAR
VERSION:2.0
PRODID:-//Isanti County Radio Club - ECPv6.15.17.1//NONSGML v1.0//EN
CALSCALE:GREGORIAN
METHOD:PUBLISH
X-WR-CALNAME:Isanti County Radio Club
X-ORIGINAL-URL:https://isantiradio.org
X-WR-CALDESC:Events for Isanti County Radio Club
REFRESH-INTERVAL;VALUE=DURATION:PT1H
X-Robots-Tag:noindex
X-PUBLISHED-TTL:PT1H
BEGIN:VTIMEZONE
TZID:UTC
BEGIN:STANDARD
TZOFFSETFROM:+0000
TZOFFSETTO:+0000
TZNAME:UTC
DTSTART:20210101T000000
END:STANDARD
END:VTIMEZONE
BEGIN:VEVENT
DTSTART;TZID=UTC:20220615T202500
DTEND;TZID=UTC:20220615T211500
DTSTAMP:20260422T132216
CREATED:20211020T213037Z
LAST-MODIFIED:20211020T213037Z
UID:104-1655324700-1655327700@isantiradio.org
SUMMARY:Weekly 2 Meter net every Wednesday starting at 8:25 pm
DESCRIPTION:Weekly 2 Meter net every Wednesday at 8:25 pm on 146.420 Mhz Simplex and on the Isanti repeater (146.64 – pl 146.2) starting at about 8:30 pm.
URL:https://isantiradio.org/event/weekly-2-meter-net-every-wednesday-starting-at-825-pm-2022-06-15/
END:VEVENT
BEGIN:VEVENT
DTSTART;TZID=UTC:20220608T202500
DTEND;TZID=UTC:20220608T211500
DTSTAMP:20260422T132216
CREATED:20211020T213037Z
LAST-MODIFIED:20211020T213037Z
UID:103-1654719900-1654722900@isantiradio.org
SUMMARY:Weekly 2 Meter net every Wednesday starting at 8:25 pm
DESCRIPTION:Weekly 2 Meter net every Wednesday at 8:25 pm on 146.420 Mhz Simplex and on the Isanti repeater (146.64 – pl 146.2) starting at about 8:30 pm.
URL:https://isantiradio.org/event/weekly-2-meter-net-every-wednesday-starting-at-825-pm-2022-06-08/
END:VEVENT
BEGIN:VEVENT
DTSTART;TZID=UTC:20220601T202500
DTEND;TZID=UTC:20220601T211500
DTSTAMP:20260422T132216
CREATED:20211020T213037Z
LAST-MODIFIED:20211020T213037Z
UID:102-1654115100-1654118100@isantiradio.org
SUMMARY:Weekly 2 Meter net every Wednesday starting at 8:25 pm
DESCRIPTION:Weekly 2 Meter net every Wednesday at 8:25 pm on 146.420 Mhz Simplex and on the Isanti repeater (146.64 – pl 146.2) starting at about 8:30 pm.
URL:https://isantiradio.org/event/weekly-2-meter-net-every-wednesday-starting-at-825-pm-2022-06-01/
END:VEVENT
BEGIN:VEVENT
DTSTART;TZID=UTC:20220601T170000
DTEND;TZID=UTC:20220601T200000
DTSTAMP:20260422T132216
CREATED:20211020T213923Z
LAST-MODIFIED:20211020T213923Z
UID:315-1654102800-1654113600@isantiradio.org
SUMMARY:First Wednesday gathering at the Whistle Top Bar and Grill in the Junction Bowl in Isanti.
DESCRIPTION:The monthly gathering will be at the Whistle Stop Bar and Grill inside Junction Bowl in Isanti. We meet the first Wednesday of each month.\n123 Cajima St NE\,\nIsanti\, MN 55040\nWe meet at about 5:30pm and order food/beverages.  We finish up around 8:00pm to be home in time for the net to start.
URL:https://isantiradio.org/event/first-wednesday-gathering-at-the-whistle-top-bar-and-grill-in-the-junction-bowl-in-isanti-2022-06-01/
LOCATION:Whistle Top Bar and Grill\, 123 Cajima St NE\, Isanti\, MN\, 55040\, United States
END:VEVENT
BEGIN:VEVENT
DTSTART;TZID=UTC:20220601T123000
DTEND;TZID=UTC:20220601T133000
DTSTAMP:20260422T132216
CREATED:20211020T215624Z
LAST-MODIFIED:20211020T215624Z
UID:295-1654086600-1654090200@isantiradio.org
SUMMARY:Weekly Hospital Net
DESCRIPTION:First Wednesday of the month from 12:30PM-1:30PM\nIsanti Crossband Repeater Simplex (444.325+pl 141.3)
URL:https://isantiradio.org/event/weekly-hospital-net-2022-06-01/
LOCATION:Isanti County Government Center\, 555 18th Ave SW\, Cambridge\, MN\, 55008\, United States
END:VEVENT
BEGIN:VEVENT
DTSTART;TZID=UTC:20220525T202500
DTEND;TZID=UTC:20220525T211500
DTSTAMP:20260422T132216
CREATED:20211020T213037Z
LAST-MODIFIED:20211020T213037Z
UID:101-1653510300-1653513300@isantiradio.org
SUMMARY:Weekly 2 Meter net every Wednesday starting at 8:25 pm
DESCRIPTION:Weekly 2 Meter net every Wednesday at 8:25 pm on 146.420 Mhz Simplex and on the Isanti repeater (146.64 – pl 146.2) starting at about 8:30 pm.
URL:https://isantiradio.org/event/weekly-2-meter-net-every-wednesday-starting-at-825-pm-2022-05-25/
END:VEVENT
BEGIN:VEVENT
DTSTART;TZID=UTC:20220518T202500
DTEND;TZID=UTC:20220518T211500
DTSTAMP:20260422T132216
CREATED:20211020T213037Z
LAST-MODIFIED:20211020T213037Z
UID:100-1652905500-1652908500@isantiradio.org
SUMMARY:Weekly 2 Meter net every Wednesday starting at 8:25 pm
DESCRIPTION:Weekly 2 Meter net every Wednesday at 8:25 pm on 146.420 Mhz Simplex and on the Isanti repeater (146.64 – pl 146.2) starting at about 8:30 pm.
URL:https://isantiradio.org/event/weekly-2-meter-net-every-wednesday-starting-at-825-pm-2022-05-18/
END:VEVENT
BEGIN:VEVENT
DTSTART;TZID=UTC:20220511T202500
DTEND;TZID=UTC:20220511T211500
DTSTAMP:20260422T132216
CREATED:20211020T213037Z
LAST-MODIFIED:20211020T213037Z
UID:99-1652300700-1652303700@isantiradio.org
SUMMARY:Weekly 2 Meter net every Wednesday starting at 8:25 pm
DESCRIPTION:Weekly 2 Meter net every Wednesday at 8:25 pm on 146.420 Mhz Simplex and on the Isanti repeater (146.64 – pl 146.2) starting at about 8:30 pm.
URL:https://isantiradio.org/event/weekly-2-meter-net-every-wednesday-starting-at-825-pm-2022-05-11/
END:VEVENT
BEGIN:VEVENT
DTSTART;TZID=UTC:20220504T202500
DTEND;TZID=UTC:20220504T211500
DTSTAMP:20260422T132216
CREATED:20211020T213037Z
LAST-MODIFIED:20211020T213037Z
UID:98-1651695900-1651698900@isantiradio.org
SUMMARY:Weekly 2 Meter net every Wednesday starting at 8:25 pm
DESCRIPTION:Weekly 2 Meter net every Wednesday at 8:25 pm on 146.420 Mhz Simplex and on the Isanti repeater (146.64 – pl 146.2) starting at about 8:30 pm.
URL:https://isantiradio.org/event/weekly-2-meter-net-every-wednesday-starting-at-825-pm-2022-05-04/
END:VEVENT
BEGIN:VEVENT
DTSTART;TZID=UTC:20220504T170000
DTEND;TZID=UTC:20220504T200000
DTSTAMP:20260422T132216
CREATED:20211020T213923Z
LAST-MODIFIED:20211020T213923Z
UID:314-1651683600-1651694400@isantiradio.org
SUMMARY:First Wednesday gathering at the Whistle Top Bar and Grill in the Junction Bowl in Isanti.
DESCRIPTION:The monthly gathering will be at the Whistle Stop Bar and Grill inside Junction Bowl in Isanti. We meet the first Wednesday of each month.\n123 Cajima St NE\,\nIsanti\, MN 55040\nWe meet at about 5:30pm and order food/beverages.  We finish up around 8:00pm to be home in time for the net to start.
URL:https://isantiradio.org/event/first-wednesday-gathering-at-the-whistle-top-bar-and-grill-in-the-junction-bowl-in-isanti-2022-05-04/
LOCATION:Whistle Top Bar and Grill\, 123 Cajima St NE\, Isanti\, MN\, 55040\, United States
END:VEVENT
BEGIN:VEVENT
DTSTART;TZID=UTC:20220504T123000
DTEND;TZID=UTC:20220504T133000
DTSTAMP:20260422T132216
CREATED:20211020T215624Z
LAST-MODIFIED:20211020T215624Z
UID:294-1651667400-1651671000@isantiradio.org
SUMMARY:Weekly Hospital Net
DESCRIPTION:First Wednesday of the month from 12:30PM-1:30PM\nIsanti Crossband Repeater Simplex (444.325+pl 141.3)
URL:https://isantiradio.org/event/weekly-hospital-net-2022-05-04/
LOCATION:Isanti County Government Center\, 555 18th Ave SW\, Cambridge\, MN\, 55008\, United States
END:VEVENT
BEGIN:VEVENT
DTSTART;TZID=UTC:20220427T202500
DTEND;TZID=UTC:20220427T211500
DTSTAMP:20260422T132216
CREATED:20211020T213037Z
LAST-MODIFIED:20211020T213037Z
UID:97-1651091100-1651094100@isantiradio.org
SUMMARY:Weekly 2 Meter net every Wednesday starting at 8:25 pm
DESCRIPTION:Weekly 2 Meter net every Wednesday at 8:25 pm on 146.420 Mhz Simplex and on the Isanti repeater (146.64 – pl 146.2) starting at about 8:30 pm.
URL:https://isantiradio.org/event/weekly-2-meter-net-every-wednesday-starting-at-825-pm-2022-04-27/
END:VEVENT
BEGIN:VEVENT
DTSTART;TZID=UTC:20220420T202500
DTEND;TZID=UTC:20220420T211500
DTSTAMP:20260422T132216
CREATED:20211020T213037Z
LAST-MODIFIED:20211020T213037Z
UID:96-1650486300-1650489300@isantiradio.org
SUMMARY:Weekly 2 Meter net every Wednesday starting at 8:25 pm
DESCRIPTION:Weekly 2 Meter net every Wednesday at 8:25 pm on 146.420 Mhz Simplex and on the Isanti repeater (146.64 – pl 146.2) starting at about 8:30 pm.
URL:https://isantiradio.org/event/weekly-2-meter-net-every-wednesday-starting-at-825-pm-2022-04-20/
END:VEVENT
BEGIN:VEVENT
DTSTART;TZID=UTC:20220413T202500
DTEND;TZID=UTC:20220413T211500
DTSTAMP:20260422T132216
CREATED:20211020T213037Z
LAST-MODIFIED:20211020T213037Z
UID:95-1649881500-1649884500@isantiradio.org
SUMMARY:Weekly 2 Meter net every Wednesday starting at 8:25 pm
DESCRIPTION:Weekly 2 Meter net every Wednesday at 8:25 pm on 146.420 Mhz Simplex and on the Isanti repeater (146.64 – pl 146.2) starting at about 8:30 pm.
URL:https://isantiradio.org/event/weekly-2-meter-net-every-wednesday-starting-at-825-pm-2022-04-13/
END:VEVENT
BEGIN:VEVENT
DTSTART;TZID=UTC:20220406T202500
DTEND;TZID=UTC:20220406T211500
DTSTAMP:20260422T132216
CREATED:20211020T213037Z
LAST-MODIFIED:20211020T213037Z
UID:94-1649276700-1649279700@isantiradio.org
SUMMARY:Weekly 2 Meter net every Wednesday starting at 8:25 pm
DESCRIPTION:Weekly 2 Meter net every Wednesday at 8:25 pm on 146.420 Mhz Simplex and on the Isanti repeater (146.64 – pl 146.2) starting at about 8:30 pm.
URL:https://isantiradio.org/event/weekly-2-meter-net-every-wednesday-starting-at-825-pm-2022-04-06/
END:VEVENT
BEGIN:VEVENT
DTSTART;TZID=UTC:20220406T170000
DTEND;TZID=UTC:20220406T200000
DTSTAMP:20260422T132216
CREATED:20211020T213923Z
LAST-MODIFIED:20211020T213923Z
UID:313-1649264400-1649275200@isantiradio.org
SUMMARY:First Wednesday gathering at the Whistle Top Bar and Grill in the Junction Bowl in Isanti.
DESCRIPTION:The monthly gathering will be at the Whistle Stop Bar and Grill inside Junction Bowl in Isanti. We meet the first Wednesday of each month.\n123 Cajima St NE\,\nIsanti\, MN 55040\nWe meet at about 5:30pm and order food/beverages.  We finish up around 8:00pm to be home in time for the net to start.
URL:https://isantiradio.org/event/first-wednesday-gathering-at-the-whistle-top-bar-and-grill-in-the-junction-bowl-in-isanti-2022-04-06/
LOCATION:Whistle Top Bar and Grill\, 123 Cajima St NE\, Isanti\, MN\, 55040\, United States
END:VEVENT
BEGIN:VEVENT
DTSTART;TZID=UTC:20220406T123000
DTEND;TZID=UTC:20220406T133000
DTSTAMP:20260422T132216
CREATED:20211020T215624Z
LAST-MODIFIED:20211020T215624Z
UID:293-1649248200-1649251800@isantiradio.org
SUMMARY:Weekly Hospital Net
DESCRIPTION:First Wednesday of the month from 12:30PM-1:30PM\nIsanti Crossband Repeater Simplex (444.325+pl 141.3)
URL:https://isantiradio.org/event/weekly-hospital-net-2022-04-06/
LOCATION:Isanti County Government Center\, 555 18th Ave SW\, Cambridge\, MN\, 55008\, United States
END:VEVENT
BEGIN:VEVENT
DTSTART;TZID=UTC:20220330T202500
DTEND;TZID=UTC:20220330T211500
DTSTAMP:20260422T132216
CREATED:20211020T213037Z
LAST-MODIFIED:20211020T213037Z
UID:93-1648671900-1648674900@isantiradio.org
SUMMARY:Weekly 2 Meter net every Wednesday starting at 8:25 pm
DESCRIPTION:Weekly 2 Meter net every Wednesday at 8:25 pm on 146.420 Mhz Simplex and on the Isanti repeater (146.64 – pl 146.2) starting at about 8:30 pm.
URL:https://isantiradio.org/event/weekly-2-meter-net-every-wednesday-starting-at-825-pm-2022-03-30/
END:VEVENT
BEGIN:VEVENT
DTSTART;TZID=UTC:20220323T202500
DTEND;TZID=UTC:20220323T211500
DTSTAMP:20260422T132216
CREATED:20211020T213037Z
LAST-MODIFIED:20211020T213037Z
UID:92-1648067100-1648070100@isantiradio.org
SUMMARY:Weekly 2 Meter net every Wednesday starting at 8:25 pm
DESCRIPTION:Weekly 2 Meter net every Wednesday at 8:25 pm on 146.420 Mhz Simplex and on the Isanti repeater (146.64 – pl 146.2) starting at about 8:30 pm.
URL:https://isantiradio.org/event/weekly-2-meter-net-every-wednesday-starting-at-825-pm-2022-03-23/
END:VEVENT
BEGIN:VEVENT
DTSTART;TZID=UTC:20220316T202500
DTEND;TZID=UTC:20220316T211500
DTSTAMP:20260422T132216
CREATED:20211020T213037Z
LAST-MODIFIED:20211020T213037Z
UID:91-1647462300-1647465300@isantiradio.org
SUMMARY:Weekly 2 Meter net every Wednesday starting at 8:25 pm
DESCRIPTION:Weekly 2 Meter net every Wednesday at 8:25 pm on 146.420 Mhz Simplex and on the Isanti repeater (146.64 – pl 146.2) starting at about 8:30 pm.
URL:https://isantiradio.org/event/weekly-2-meter-net-every-wednesday-starting-at-825-pm-2022-03-16/
END:VEVENT
BEGIN:VEVENT
DTSTART;TZID=UTC:20220309T202500
DTEND;TZID=UTC:20220309T211500
DTSTAMP:20260422T132216
CREATED:20211020T213037Z
LAST-MODIFIED:20211020T213037Z
UID:90-1646857500-1646860500@isantiradio.org
SUMMARY:Weekly 2 Meter net every Wednesday starting at 8:25 pm
DESCRIPTION:Weekly 2 Meter net every Wednesday at 8:25 pm on 146.420 Mhz Simplex and on the Isanti repeater (146.64 – pl 146.2) starting at about 8:30 pm.
URL:https://isantiradio.org/event/weekly-2-meter-net-every-wednesday-starting-at-825-pm-2022-03-09/
END:VEVENT
BEGIN:VEVENT
DTSTART;TZID=UTC:20220302T202500
DTEND;TZID=UTC:20220302T211500
DTSTAMP:20260422T132216
CREATED:20211020T213037Z
LAST-MODIFIED:20211020T213037Z
UID:89-1646252700-1646255700@isantiradio.org
SUMMARY:Weekly 2 Meter net every Wednesday starting at 8:25 pm
DESCRIPTION:Weekly 2 Meter net every Wednesday at 8:25 pm on 146.420 Mhz Simplex and on the Isanti repeater (146.64 – pl 146.2) starting at about 8:30 pm.
URL:https://isantiradio.org/event/weekly-2-meter-net-every-wednesday-starting-at-825-pm-2022-03-02/
END:VEVENT
BEGIN:VEVENT
DTSTART;TZID=UTC:20220302T170000
DTEND;TZID=UTC:20220302T200000
DTSTAMP:20260422T132216
CREATED:20211020T213923Z
LAST-MODIFIED:20211020T213923Z
UID:312-1646240400-1646251200@isantiradio.org
SUMMARY:First Wednesday gathering at the Whistle Top Bar and Grill in the Junction Bowl in Isanti.
DESCRIPTION:The monthly gathering will be at the Whistle Stop Bar and Grill inside Junction Bowl in Isanti. We meet the first Wednesday of each month.\n123 Cajima St NE\,\nIsanti\, MN 55040\nWe meet at about 5:30pm and order food/beverages.  We finish up around 8:00pm to be home in time for the net to start.
URL:https://isantiradio.org/event/first-wednesday-gathering-at-the-whistle-top-bar-and-grill-in-the-junction-bowl-in-isanti-2022-03-02/
LOCATION:Whistle Top Bar and Grill\, 123 Cajima St NE\, Isanti\, MN\, 55040\, United States
END:VEVENT
BEGIN:VEVENT
DTSTART;TZID=UTC:20220302T123000
DTEND;TZID=UTC:20220302T133000
DTSTAMP:20260422T132216
CREATED:20211020T215624Z
LAST-MODIFIED:20211020T215624Z
UID:292-1646224200-1646227800@isantiradio.org
SUMMARY:Weekly Hospital Net
DESCRIPTION:First Wednesday of the month from 12:30PM-1:30PM\nIsanti Crossband Repeater Simplex (444.325+pl 141.3)
URL:https://isantiradio.org/event/weekly-hospital-net-2022-03-02/
LOCATION:Isanti County Government Center\, 555 18th Ave SW\, Cambridge\, MN\, 55008\, United States
END:VEVENT
BEGIN:VEVENT
DTSTART;TZID=UTC:20220223T202500
DTEND;TZID=UTC:20220223T211500
DTSTAMP:20260422T132216
CREATED:20211020T213037Z
LAST-MODIFIED:20211020T213037Z
UID:88-1645647900-1645650900@isantiradio.org
SUMMARY:Weekly 2 Meter net every Wednesday starting at 8:25 pm
DESCRIPTION:Weekly 2 Meter net every Wednesday at 8:25 pm on 146.420 Mhz Simplex and on the Isanti repeater (146.64 – pl 146.2) starting at about 8:30 pm.
URL:https://isantiradio.org/event/weekly-2-meter-net-every-wednesday-starting-at-825-pm-2022-02-23/
END:VEVENT
BEGIN:VEVENT
DTSTART;TZID=UTC:20220216T202500
DTEND;TZID=UTC:20220216T211500
DTSTAMP:20260422T132216
CREATED:20211020T213037Z
LAST-MODIFIED:20211020T213037Z
UID:87-1645043100-1645046100@isantiradio.org
SUMMARY:Weekly 2 Meter net every Wednesday starting at 8:25 pm
DESCRIPTION:Weekly 2 Meter net every Wednesday at 8:25 pm on 146.420 Mhz Simplex and on the Isanti repeater (146.64 – pl 146.2) starting at about 8:30 pm.
URL:https://isantiradio.org/event/weekly-2-meter-net-every-wednesday-starting-at-825-pm-2022-02-16/
END:VEVENT
BEGIN:VEVENT
DTSTART;TZID=UTC:20220209T202500
DTEND;TZID=UTC:20220209T211500
DTSTAMP:20260422T132216
CREATED:20211020T213037Z
LAST-MODIFIED:20211020T213037Z
UID:86-1644438300-1644441300@isantiradio.org
SUMMARY:Weekly 2 Meter net every Wednesday starting at 8:25 pm
DESCRIPTION:Weekly 2 Meter net every Wednesday at 8:25 pm on 146.420 Mhz Simplex and on the Isanti repeater (146.64 – pl 146.2) starting at about 8:30 pm.
URL:https://isantiradio.org/event/weekly-2-meter-net-every-wednesday-starting-at-825-pm-2022-02-09/
END:VEVENT
BEGIN:VEVENT
DTSTART;TZID=UTC:20220202T202500
DTEND;TZID=UTC:20220202T211500
DTSTAMP:20260422T132216
CREATED:20211020T213037Z
LAST-MODIFIED:20211020T213037Z
UID:85-1643833500-1643836500@isantiradio.org
SUMMARY:Weekly 2 Meter net every Wednesday starting at 8:25 pm
DESCRIPTION:Weekly 2 Meter net every Wednesday at 8:25 pm on 146.420 Mhz Simplex and on the Isanti repeater (146.64 – pl 146.2) starting at about 8:30 pm.
URL:https://isantiradio.org/event/weekly-2-meter-net-every-wednesday-starting-at-825-pm-2022-02-02/
END:VEVENT
BEGIN:VEVENT
DTSTART;TZID=UTC:20220202T170000
DTEND;TZID=UTC:20220202T200000
DTSTAMP:20260422T132216
CREATED:20211020T213923Z
LAST-MODIFIED:20211020T213923Z
UID:311-1643821200-1643832000@isantiradio.org
SUMMARY:First Wednesday gathering at the Whistle Top Bar and Grill in the Junction Bowl in Isanti.
DESCRIPTION:The monthly gathering will be at the Whistle Stop Bar and Grill inside Junction Bowl in Isanti. We meet the first Wednesday of each month.\n123 Cajima St NE\,\nIsanti\, MN 55040\nWe meet at about 5:30pm and order food/beverages.  We finish up around 8:00pm to be home in time for the net to start.
URL:https://isantiradio.org/event/first-wednesday-gathering-at-the-whistle-top-bar-and-grill-in-the-junction-bowl-in-isanti-2022-02-02/
LOCATION:Whistle Top Bar and Grill\, 123 Cajima St NE\, Isanti\, MN\, 55040\, United States
END:VEVENT
BEGIN:VEVENT
DTSTART;TZID=UTC:20220202T123000
DTEND;TZID=UTC:20220202T133000
DTSTAMP:20260422T132216
CREATED:20211020T215624Z
LAST-MODIFIED:20211020T215624Z
UID:291-1643805000-1643808600@isantiradio.org
SUMMARY:Weekly Hospital Net
DESCRIPTION:First Wednesday of the month from 12:30PM-1:30PM\nIsanti Crossband Repeater Simplex (444.325+pl 141.3)
URL:https://isantiradio.org/event/weekly-hospital-net-2022-02-02/
LOCATION:Isanti County Government Center\, 555 18th Ave SW\, Cambridge\, MN\, 55008\, United States
END:VEVENT
END:VCALENDAR