BEGIN:VCALENDAR
VERSION:2.0
PRODID:-//Isanti County Radio Club - ECPv6.15.17.1//NONSGML v1.0//EN
CALSCALE:GREGORIAN
METHOD:PUBLISH
X-WR-CALNAME:Isanti County Radio Club
X-ORIGINAL-URL:https://isantiradio.org
X-WR-CALDESC:Events for Isanti County Radio Club
REFRESH-INTERVAL;VALUE=DURATION:PT1H
X-Robots-Tag:noindex
X-PUBLISHED-TTL:PT1H
BEGIN:VTIMEZONE
TZID:UTC
BEGIN:STANDARD
TZOFFSETFROM:+0000
TZOFFSETTO:+0000
TZNAME:UTC
DTSTART:20210101T000000
END:STANDARD
END:VTIMEZONE
BEGIN:VTIMEZONE
TZID:America/Chicago
BEGIN:DAYLIGHT
TZOFFSETFROM:-0600
TZOFFSETTO:-0500
TZNAME:CDT
DTSTART:20210314T080000
END:DAYLIGHT
BEGIN:STANDARD
TZOFFSETFROM:-0500
TZOFFSETTO:-0600
TZNAME:CST
DTSTART:20211107T070000
END:STANDARD
BEGIN:DAYLIGHT
TZOFFSETFROM:-0600
TZOFFSETTO:-0500
TZNAME:CDT
DTSTART:20220313T080000
END:DAYLIGHT
BEGIN:STANDARD
TZOFFSETFROM:-0500
TZOFFSETTO:-0600
TZNAME:CST
DTSTART:20221106T070000
END:STANDARD
BEGIN:DAYLIGHT
TZOFFSETFROM:-0600
TZOFFSETTO:-0500
TZNAME:CDT
DTSTART:20230312T080000
END:DAYLIGHT
BEGIN:STANDARD
TZOFFSETFROM:-0500
TZOFFSETTO:-0600
TZNAME:CST
DTSTART:20231105T070000
END:STANDARD
END:VTIMEZONE
BEGIN:VEVENT
DTSTART;TZID=UTC:20230301T202500
DTEND;TZID=UTC:20230301T211500
DTSTAMP:20260422T025020
CREATED:20211020T213037Z
LAST-MODIFIED:20211020T213037Z
UID:141-1677702300-1677705300@isantiradio.org
SUMMARY:Weekly 2 Meter net every Wednesday starting at 8:25 pm
DESCRIPTION:Weekly 2 Meter net every Wednesday at 8:25 pm on 146.420 Mhz Simplex and on the Isanti repeater (146.64 – pl 146.2) starting at about 8:30 pm.
URL:https://isantiradio.org/event/weekly-2-meter-net-every-wednesday-starting-at-825-pm-2023-03-01/
END:VEVENT
BEGIN:VEVENT
DTSTART;TZID=UTC:20230301T170000
DTEND;TZID=UTC:20230301T200000
DTSTAMP:20260422T025020
CREATED:20211020T213923Z
LAST-MODIFIED:20211020T213923Z
UID:324-1677690000-1677700800@isantiradio.org
SUMMARY:First Wednesday gathering at the Whistle Top Bar and Grill in the Junction Bowl in Isanti.
DESCRIPTION:The monthly gathering will be at the Whistle Stop Bar and Grill inside Junction Bowl in Isanti. We meet the first Wednesday of each month.\n123 Cajima St NE\,\nIsanti\, MN 55040\nWe meet at about 5:30pm and order food/beverages.  We finish up around 8:00pm to be home in time for the net to start.
URL:https://isantiradio.org/event/first-wednesday-gathering-at-the-whistle-top-bar-and-grill-in-the-junction-bowl-in-isanti-2023-03-01/
LOCATION:Whistle Top Bar and Grill\, 123 Cajima St NE\, Isanti\, MN\, 55040\, United States
END:VEVENT
BEGIN:VEVENT
DTSTART;TZID=UTC:20230301T123000
DTEND;TZID=UTC:20230301T133000
DTSTAMP:20260422T025020
CREATED:20211020T215624Z
LAST-MODIFIED:20211020T215624Z
UID:304-1677673800-1677677400@isantiradio.org
SUMMARY:Weekly Hospital Net
DESCRIPTION:First Wednesday of the month from 12:30PM-1:30PM\nIsanti Crossband Repeater Simplex (444.325+pl 141.3)
URL:https://isantiradio.org/event/weekly-hospital-net-2023-03-01/
LOCATION:Isanti County Government Center\, 555 18th Ave SW\, Cambridge\, MN\, 55008\, United States
END:VEVENT
BEGIN:VEVENT
DTSTART;TZID=UTC:20230222T202500
DTEND;TZID=UTC:20230222T211500
DTSTAMP:20260422T025020
CREATED:20211020T213037Z
LAST-MODIFIED:20211020T213037Z
UID:140-1677097500-1677100500@isantiradio.org
SUMMARY:Weekly 2 Meter net every Wednesday starting at 8:25 pm
DESCRIPTION:Weekly 2 Meter net every Wednesday at 8:25 pm on 146.420 Mhz Simplex and on the Isanti repeater (146.64 – pl 146.2) starting at about 8:30 pm.
URL:https://isantiradio.org/event/weekly-2-meter-net-every-wednesday-starting-at-825-pm-2023-02-22/
END:VEVENT
BEGIN:VEVENT
DTSTART;TZID=UTC:20230215T202500
DTEND;TZID=UTC:20230215T211500
DTSTAMP:20260422T025020
CREATED:20211020T213037Z
LAST-MODIFIED:20211020T213037Z
UID:139-1676492700-1676495700@isantiradio.org
SUMMARY:Weekly 2 Meter net every Wednesday starting at 8:25 pm
DESCRIPTION:Weekly 2 Meter net every Wednesday at 8:25 pm on 146.420 Mhz Simplex and on the Isanti repeater (146.64 – pl 146.2) starting at about 8:30 pm.
URL:https://isantiradio.org/event/weekly-2-meter-net-every-wednesday-starting-at-825-pm-2023-02-15/
END:VEVENT
BEGIN:VEVENT
DTSTART;TZID=UTC:20230208T202500
DTEND;TZID=UTC:20230208T211500
DTSTAMP:20260422T025020
CREATED:20211020T213037Z
LAST-MODIFIED:20211020T213037Z
UID:138-1675887900-1675890900@isantiradio.org
SUMMARY:Weekly 2 Meter net every Wednesday starting at 8:25 pm
DESCRIPTION:Weekly 2 Meter net every Wednesday at 8:25 pm on 146.420 Mhz Simplex and on the Isanti repeater (146.64 – pl 146.2) starting at about 8:30 pm.
URL:https://isantiradio.org/event/weekly-2-meter-net-every-wednesday-starting-at-825-pm-2023-02-08/
END:VEVENT
BEGIN:VEVENT
DTSTART;TZID=UTC:20230201T202500
DTEND;TZID=UTC:20230201T211500
DTSTAMP:20260422T025020
CREATED:20211020T213037Z
LAST-MODIFIED:20211020T213037Z
UID:137-1675283100-1675286100@isantiradio.org
SUMMARY:Weekly 2 Meter net every Wednesday starting at 8:25 pm
DESCRIPTION:Weekly 2 Meter net every Wednesday at 8:25 pm on 146.420 Mhz Simplex and on the Isanti repeater (146.64 – pl 146.2) starting at about 8:30 pm.
URL:https://isantiradio.org/event/weekly-2-meter-net-every-wednesday-starting-at-825-pm-2023-02-01/
END:VEVENT
BEGIN:VEVENT
DTSTART;TZID=UTC:20230201T170000
DTEND;TZID=UTC:20230201T200000
DTSTAMP:20260422T025020
CREATED:20211020T213923Z
LAST-MODIFIED:20211020T213923Z
UID:323-1675270800-1675281600@isantiradio.org
SUMMARY:First Wednesday gathering at the Whistle Top Bar and Grill in the Junction Bowl in Isanti.
DESCRIPTION:The monthly gathering will be at the Whistle Stop Bar and Grill inside Junction Bowl in Isanti. We meet the first Wednesday of each month.\n123 Cajima St NE\,\nIsanti\, MN 55040\nWe meet at about 5:30pm and order food/beverages.  We finish up around 8:00pm to be home in time for the net to start.
URL:https://isantiradio.org/event/first-wednesday-gathering-at-the-whistle-top-bar-and-grill-in-the-junction-bowl-in-isanti-2023-02-01/
LOCATION:Whistle Top Bar and Grill\, 123 Cajima St NE\, Isanti\, MN\, 55040\, United States
END:VEVENT
BEGIN:VEVENT
DTSTART;TZID=UTC:20230201T123000
DTEND;TZID=UTC:20230201T133000
DTSTAMP:20260422T025020
CREATED:20211020T215624Z
LAST-MODIFIED:20211020T215624Z
UID:303-1675254600-1675258200@isantiradio.org
SUMMARY:Weekly Hospital Net
DESCRIPTION:First Wednesday of the month from 12:30PM-1:30PM\nIsanti Crossband Repeater Simplex (444.325+pl 141.3)
URL:https://isantiradio.org/event/weekly-hospital-net-2023-02-01/
LOCATION:Isanti County Government Center\, 555 18th Ave SW\, Cambridge\, MN\, 55008\, United States
END:VEVENT
BEGIN:VEVENT
DTSTART;TZID=UTC:20230125T202500
DTEND;TZID=UTC:20230125T211500
DTSTAMP:20260422T025020
CREATED:20211020T213037Z
LAST-MODIFIED:20211020T213037Z
UID:136-1674678300-1674681300@isantiradio.org
SUMMARY:Weekly 2 Meter net every Wednesday starting at 8:25 pm
DESCRIPTION:Weekly 2 Meter net every Wednesday at 8:25 pm on 146.420 Mhz Simplex and on the Isanti repeater (146.64 – pl 146.2) starting at about 8:30 pm.
URL:https://isantiradio.org/event/weekly-2-meter-net-every-wednesday-starting-at-825-pm-2023-01-25/
END:VEVENT
BEGIN:VEVENT
DTSTART;TZID=UTC:20230118T202500
DTEND;TZID=UTC:20230118T211500
DTSTAMP:20260422T025020
CREATED:20211020T213037Z
LAST-MODIFIED:20211020T213037Z
UID:135-1674073500-1674076500@isantiradio.org
SUMMARY:Weekly 2 Meter net every Wednesday starting at 8:25 pm
DESCRIPTION:Weekly 2 Meter net every Wednesday at 8:25 pm on 146.420 Mhz Simplex and on the Isanti repeater (146.64 – pl 146.2) starting at about 8:30 pm.
URL:https://isantiradio.org/event/weekly-2-meter-net-every-wednesday-starting-at-825-pm-2023-01-18/
END:VEVENT
BEGIN:VEVENT
DTSTART;TZID=UTC:20230111T202500
DTEND;TZID=UTC:20230111T211500
DTSTAMP:20260422T025020
CREATED:20211020T213037Z
LAST-MODIFIED:20211020T213037Z
UID:134-1673468700-1673471700@isantiradio.org
SUMMARY:Weekly 2 Meter net every Wednesday starting at 8:25 pm
DESCRIPTION:Weekly 2 Meter net every Wednesday at 8:25 pm on 146.420 Mhz Simplex and on the Isanti repeater (146.64 – pl 146.2) starting at about 8:30 pm.
URL:https://isantiradio.org/event/weekly-2-meter-net-every-wednesday-starting-at-825-pm-2023-01-11/
END:VEVENT
BEGIN:VEVENT
DTSTART;TZID=UTC:20230104T202500
DTEND;TZID=UTC:20230104T211500
DTSTAMP:20260422T025020
CREATED:20211020T213037Z
LAST-MODIFIED:20211020T213037Z
UID:133-1672863900-1672866900@isantiradio.org
SUMMARY:Weekly 2 Meter net every Wednesday starting at 8:25 pm
DESCRIPTION:Weekly 2 Meter net every Wednesday at 8:25 pm on 146.420 Mhz Simplex and on the Isanti repeater (146.64 – pl 146.2) starting at about 8:30 pm.
URL:https://isantiradio.org/event/weekly-2-meter-net-every-wednesday-starting-at-825-pm-2023-01-04/
END:VEVENT
BEGIN:VEVENT
DTSTART;TZID=UTC:20230104T170000
DTEND;TZID=UTC:20230104T200000
DTSTAMP:20260422T025020
CREATED:20211020T213923Z
LAST-MODIFIED:20211020T213923Z
UID:322-1672851600-1672862400@isantiradio.org
SUMMARY:First Wednesday gathering at the Whistle Top Bar and Grill in the Junction Bowl in Isanti.
DESCRIPTION:The monthly gathering will be at the Whistle Stop Bar and Grill inside Junction Bowl in Isanti. We meet the first Wednesday of each month.\n123 Cajima St NE\,\nIsanti\, MN 55040\nWe meet at about 5:30pm and order food/beverages.  We finish up around 8:00pm to be home in time for the net to start.
URL:https://isantiradio.org/event/first-wednesday-gathering-at-the-whistle-top-bar-and-grill-in-the-junction-bowl-in-isanti-2023-01-04/
LOCATION:Whistle Top Bar and Grill\, 123 Cajima St NE\, Isanti\, MN\, 55040\, United States
END:VEVENT
BEGIN:VEVENT
DTSTART;TZID=UTC:20230104T123000
DTEND;TZID=UTC:20230104T133000
DTSTAMP:20260422T025020
CREATED:20211020T215624Z
LAST-MODIFIED:20211020T215624Z
UID:302-1672835400-1672839000@isantiradio.org
SUMMARY:Weekly Hospital Net
DESCRIPTION:First Wednesday of the month from 12:30PM-1:30PM\nIsanti Crossband Repeater Simplex (444.325+pl 141.3)
URL:https://isantiradio.org/event/weekly-hospital-net-2023-01-04/
LOCATION:Isanti County Government Center\, 555 18th Ave SW\, Cambridge\, MN\, 55008\, United States
END:VEVENT
BEGIN:VEVENT
DTSTART;TZID=UTC:20221228T202500
DTEND;TZID=UTC:20221228T211500
DTSTAMP:20260422T025020
CREATED:20211020T213037Z
LAST-MODIFIED:20211020T213037Z
UID:132-1672259100-1672262100@isantiradio.org
SUMMARY:Weekly 2 Meter net every Wednesday starting at 8:25 pm
DESCRIPTION:Weekly 2 Meter net every Wednesday at 8:25 pm on 146.420 Mhz Simplex and on the Isanti repeater (146.64 – pl 146.2) starting at about 8:30 pm.
URL:https://isantiradio.org/event/weekly-2-meter-net-every-wednesday-starting-at-825-pm-2022-12-28/
END:VEVENT
BEGIN:VEVENT
DTSTART;TZID=UTC:20221221T202500
DTEND;TZID=UTC:20221221T211500
DTSTAMP:20260422T025020
CREATED:20211020T213037Z
LAST-MODIFIED:20211020T213037Z
UID:131-1671654300-1671657300@isantiradio.org
SUMMARY:Weekly 2 Meter net every Wednesday starting at 8:25 pm
DESCRIPTION:Weekly 2 Meter net every Wednesday at 8:25 pm on 146.420 Mhz Simplex and on the Isanti repeater (146.64 – pl 146.2) starting at about 8:30 pm.
URL:https://isantiradio.org/event/weekly-2-meter-net-every-wednesday-starting-at-825-pm-2022-12-21/
END:VEVENT
BEGIN:VEVENT
DTSTART;TZID=UTC:20221214T202500
DTEND;TZID=UTC:20221214T211500
DTSTAMP:20260422T025020
CREATED:20211020T213037Z
LAST-MODIFIED:20211020T213037Z
UID:130-1671049500-1671052500@isantiradio.org
SUMMARY:Weekly 2 Meter net every Wednesday starting at 8:25 pm
DESCRIPTION:Weekly 2 Meter net every Wednesday at 8:25 pm on 146.420 Mhz Simplex and on the Isanti repeater (146.64 – pl 146.2) starting at about 8:30 pm.
URL:https://isantiradio.org/event/weekly-2-meter-net-every-wednesday-starting-at-825-pm-2022-12-14/
END:VEVENT
BEGIN:VEVENT
DTSTART;TZID=America/Chicago:20221214T200000
DTEND;TZID=America/Chicago:20221214T200000
DTSTAMP:20260422T025020
CREATED:20221126T073232Z
LAST-MODIFIED:20221126T073232Z
UID:721-1671048000-1671048000@isantiradio.org
SUMMARY:Santa Net
DESCRIPTION:The Maple Grove Radio Club is having Santa run their weekly net on December 14th @ 8:00. Santa will be stopping by to talk to the kids on the radio\, so get your kids\, grandkids\, nieces\, and nephews by the radio for their last minute wish list items to tell Santa on December 14th. Hope to hear you on the radio. He will be on frequency 147.000 + offset with a tone of 114.8
URL:https://isantiradio.org/event/santa-net/
END:VEVENT
BEGIN:VEVENT
DTSTART;TZID=UTC:20221207T202500
DTEND;TZID=UTC:20221207T211500
DTSTAMP:20260422T025020
CREATED:20211020T213037Z
LAST-MODIFIED:20211020T213037Z
UID:129-1670444700-1670447700@isantiradio.org
SUMMARY:Weekly 2 Meter net every Wednesday starting at 8:25 pm
DESCRIPTION:Weekly 2 Meter net every Wednesday at 8:25 pm on 146.420 Mhz Simplex and on the Isanti repeater (146.64 – pl 146.2) starting at about 8:30 pm.
URL:https://isantiradio.org/event/weekly-2-meter-net-every-wednesday-starting-at-825-pm-2022-12-07/
END:VEVENT
BEGIN:VEVENT
DTSTART;TZID=UTC:20221207T170000
DTEND;TZID=UTC:20221207T200000
DTSTAMP:20260422T025020
CREATED:20211020T213923Z
LAST-MODIFIED:20211020T213923Z
UID:321-1670432400-1670443200@isantiradio.org
SUMMARY:First Wednesday gathering at the Whistle Top Bar and Grill in the Junction Bowl in Isanti.
DESCRIPTION:The monthly gathering will be at the Whistle Stop Bar and Grill inside Junction Bowl in Isanti. We meet the first Wednesday of each month.\n123 Cajima St NE\,\nIsanti\, MN 55040\nWe meet at about 5:30pm and order food/beverages.  We finish up around 8:00pm to be home in time for the net to start.
URL:https://isantiradio.org/event/first-wednesday-gathering-at-the-whistle-top-bar-and-grill-in-the-junction-bowl-in-isanti-2022-12-07/
LOCATION:Whistle Top Bar and Grill\, 123 Cajima St NE\, Isanti\, MN\, 55040\, United States
END:VEVENT
BEGIN:VEVENT
DTSTART;TZID=UTC:20221207T123000
DTEND;TZID=UTC:20221207T133000
DTSTAMP:20260422T025020
CREATED:20211020T215624Z
LAST-MODIFIED:20211020T215624Z
UID:301-1670416200-1670419800@isantiradio.org
SUMMARY:Weekly Hospital Net
DESCRIPTION:First Wednesday of the month from 12:30PM-1:30PM\nIsanti Crossband Repeater Simplex (444.325+pl 141.3)
URL:https://isantiradio.org/event/weekly-hospital-net-2022-12-07/
LOCATION:Isanti County Government Center\, 555 18th Ave SW\, Cambridge\, MN\, 55008\, United States
END:VEVENT
BEGIN:VEVENT
DTSTART;TZID=America/Chicago:20221130T203000
DTEND;TZID=America/Chicago:20221130T203000
DTSTAMP:20260422T025020
CREATED:20221127T171828Z
LAST-MODIFIED:20221127T171916Z
UID:746-1669840200-1669840200@isantiradio.org
SUMMARY:Isanti Weekly 2m Net
DESCRIPTION:The weekly net happens every Wednesday evening\, starting at 8:30pm (local time) on the Isanti repeater:  146.64 MHz(-) PL 146.2. \nFollowing the repeater portion of the net\,  we switch over to the Isanti simplex frequency at 146.42 MHz \nWe hope to hear everyone on the air!
URL:https://isantiradio.org/event/746/
ORGANIZER;CN="ICRC":MAILTO:info@isantiradio.org
END:VEVENT
BEGIN:VEVENT
DTSTART;TZID=UTC:20221130T202500
DTEND;TZID=UTC:20221130T211500
DTSTAMP:20260422T025020
CREATED:20211020T213037Z
LAST-MODIFIED:20211020T213037Z
UID:128-1669839900-1669842900@isantiradio.org
SUMMARY:Weekly 2 Meter net every Wednesday starting at 8:25 pm
DESCRIPTION:Weekly 2 Meter net every Wednesday at 8:25 pm on 146.420 Mhz Simplex and on the Isanti repeater (146.64 – pl 146.2) starting at about 8:30 pm.
URL:https://isantiradio.org/event/weekly-2-meter-net-every-wednesday-starting-at-825-pm-2022-11-30/
END:VEVENT
BEGIN:VEVENT
DTSTART;TZID=UTC:20221123T202500
DTEND;TZID=UTC:20221123T211500
DTSTAMP:20260422T025020
CREATED:20211020T213037Z
LAST-MODIFIED:20211020T213037Z
UID:127-1669235100-1669238100@isantiradio.org
SUMMARY:Weekly 2 Meter net every Wednesday starting at 8:25 pm
DESCRIPTION:Weekly 2 Meter net every Wednesday at 8:25 pm on 146.420 Mhz Simplex and on the Isanti repeater (146.64 – pl 146.2) starting at about 8:30 pm.
URL:https://isantiradio.org/event/weekly-2-meter-net-every-wednesday-starting-at-825-pm-2022-11-23/
END:VEVENT
BEGIN:VEVENT
DTSTART;TZID=UTC:20221116T202500
DTEND;TZID=UTC:20221116T211500
DTSTAMP:20260422T025020
CREATED:20211020T213037Z
LAST-MODIFIED:20211020T213037Z
UID:126-1668630300-1668633300@isantiradio.org
SUMMARY:Weekly 2 Meter net every Wednesday starting at 8:25 pm
DESCRIPTION:Weekly 2 Meter net every Wednesday at 8:25 pm on 146.420 Mhz Simplex and on the Isanti repeater (146.64 – pl 146.2) starting at about 8:30 pm.
URL:https://isantiradio.org/event/weekly-2-meter-net-every-wednesday-starting-at-825-pm-2022-11-16/
END:VEVENT
BEGIN:VEVENT
DTSTART;TZID=UTC:20221109T202500
DTEND;TZID=UTC:20221109T211500
DTSTAMP:20260422T025020
CREATED:20211020T213037Z
LAST-MODIFIED:20211020T213037Z
UID:125-1668025500-1668028500@isantiradio.org
SUMMARY:Weekly 2 Meter net every Wednesday starting at 8:25 pm
DESCRIPTION:Weekly 2 Meter net every Wednesday at 8:25 pm on 146.420 Mhz Simplex and on the Isanti repeater (146.64 – pl 146.2) starting at about 8:30 pm.
URL:https://isantiradio.org/event/weekly-2-meter-net-every-wednesday-starting-at-825-pm-2022-11-09/
END:VEVENT
BEGIN:VEVENT
DTSTART;TZID=America/Chicago:20221102T203000
DTEND;TZID=America/Chicago:20221102T210000
DTSTAMP:20260422T025020
CREATED:20221028T204438Z
LAST-MODIFIED:20221028T204438Z
UID:708-1667421000-1667422800@isantiradio.org
SUMMARY:Weekly Isanti ARES Net
DESCRIPTION:The weekly net happens every Wednesday evening\, starting at 8:30pm (local time) on the Isanti repeater:  146.64 MHz(-) PL 146.2. \nFollowing the repeater portion of the net\,  we switch over to the Isanti simplex frequency at 146.42 MHz \nWe hope to hear everyone on the air!
URL:https://isantiradio.org/event/weekly-isanti-ares-net/
CATEGORIES:Weekly Nets
ORGANIZER;CN="ICRC":MAILTO:info@isantiradio.org
END:VEVENT
BEGIN:VEVENT
DTSTART;TZID=UTC:20221102T202500
DTEND;TZID=UTC:20221102T211500
DTSTAMP:20260422T025020
CREATED:20211020T213037Z
LAST-MODIFIED:20211020T213037Z
UID:124-1667420700-1667423700@isantiradio.org
SUMMARY:Weekly 2 Meter net every Wednesday starting at 8:25 pm
DESCRIPTION:Weekly 2 Meter net every Wednesday at 8:25 pm on 146.420 Mhz Simplex and on the Isanti repeater (146.64 – pl 146.2) starting at about 8:30 pm.
URL:https://isantiradio.org/event/weekly-2-meter-net-every-wednesday-starting-at-825-pm-2022-11-02/
END:VEVENT
BEGIN:VEVENT
DTSTART;TZID=UTC:20221102T170000
DTEND;TZID=UTC:20221102T200000
DTSTAMP:20260422T025020
CREATED:20211020T213923Z
LAST-MODIFIED:20211020T213923Z
UID:320-1667408400-1667419200@isantiradio.org
SUMMARY:First Wednesday gathering at the Whistle Top Bar and Grill in the Junction Bowl in Isanti.
DESCRIPTION:The monthly gathering will be at the Whistle Stop Bar and Grill inside Junction Bowl in Isanti. We meet the first Wednesday of each month.\n123 Cajima St NE\,\nIsanti\, MN 55040\nWe meet at about 5:30pm and order food/beverages.  We finish up around 8:00pm to be home in time for the net to start.
URL:https://isantiradio.org/event/first-wednesday-gathering-at-the-whistle-top-bar-and-grill-in-the-junction-bowl-in-isanti-2022-11-02/
LOCATION:Whistle Top Bar and Grill\, 123 Cajima St NE\, Isanti\, MN\, 55040\, United States
END:VEVENT
END:VCALENDAR